BEGIN:VCALENDAR
VERSION:2.0
PRODID:Events Booking
BEGIN:VEVENT
UID:69e771495b644
SUMMARY:L'eau c'est la vie by Roland Hege
DESCRIPTION:
DTSTART:20260623T190000Z
DTSTAMP:20251021T100545Z
ORGANIZER;CN=Sanely:MAILTO:fabrice@sanely.fr
END:VEVENT
END:VCALENDAR