BEGIN:VCALENDAR
VERSION:2.0
PRODID:Events Booking
BEGIN:VEVENT
UID:69e76e9f59ab0
SUMMARY:Water experience  by sanely
DESCRIPTION:« Water Expérience » : Tous les premiers mardis du moisUn 
 rendez-vous mensuel pour explorer ensemble les conditions qui nourrissent 
 le vivant\, dans un monde où les modes de vie modernes génèrent vieilli
 ssements prématurés\, déséquilibres acido-basiques\, pollutions élect
 riques et électromagnétiques.Chaque session t’apporte des connaissance
 s pratiques et des solutions simples pour améliorer ton hydratation\, ton
  alimentation\, ton environnement et ta vitalité.Ce temps fort réunit de
 s experts\, des témoignages concrets et des interviews inspirantes pour t
 ’aider à passer de la théorie à l’expérience corporelles.
 Animé
  par Sanely\, le collectif au service du vivant
 https://us06web.zoom.us/
 j/4019741974_______________________________
DTSTART:20260707T190000Z
DTSTAMP:20250824T152121Z
ORGANIZER;CN=Sanely:MAILTO:fabrice@sanely.fr
END:VEVENT
END:VCALENDAR