BEGIN:VCALENDAR
VERSION:2.0
PRODID:Events Booking
BEGIN:VEVENT
UID:69e76c25730f6
SUMMARY:Water is Life by Roland Hege
DESCRIPTION:
DTSTART:20260609T190000Z
DTSTAMP:20251021T113811Z
ORGANIZER;CN=Sanely:MAILTO:fabrice@sanely.fr
END:VEVENT
END:VCALENDAR